BEGIN:VCALENDAR
VERSION:2.0
PRODID:-//MotoBros - ECPv6.15.16//NONSGML v1.0//EN
CALSCALE:GREGORIAN
METHOD:PUBLISH
X-WR-CALNAME:MotoBros
X-ORIGINAL-URL:https://motobros.com
X-WR-CALDESC:Events for MotoBros
REFRESH-INTERVAL;VALUE=DURATION:PT1H
X-Robots-Tag:noindex
X-PUBLISHED-TTL:PT1H
BEGIN:VTIMEZONE
TZID:America/New_York
BEGIN:DAYLIGHT
TZOFFSETFROM:-0500
TZOFFSETTO:-0400
TZNAME:EDT
DTSTART:20240310T070000
END:DAYLIGHT
BEGIN:STANDARD
TZOFFSETFROM:-0400
TZOFFSETTO:-0500
TZNAME:EST
DTSTART:20241103T060000
END:STANDARD
BEGIN:DAYLIGHT
TZOFFSETFROM:-0500
TZOFFSETTO:-0400
TZNAME:EDT
DTSTART:20250309T070000
END:DAYLIGHT
BEGIN:STANDARD
TZOFFSETFROM:-0400
TZOFFSETTO:-0500
TZNAME:EST
DTSTART:20251102T060000
END:STANDARD
BEGIN:DAYLIGHT
TZOFFSETFROM:-0500
TZOFFSETTO:-0400
TZNAME:EDT
DTSTART:20260308T070000
END:DAYLIGHT
BEGIN:STANDARD
TZOFFSETFROM:-0400
TZOFFSETTO:-0500
TZNAME:EST
DTSTART:20261101T060000
END:STANDARD
END:VTIMEZONE
BEGIN:VEVENT
DTSTART;VALUE=DATE:20250901
DTEND;VALUE=DATE:20250902
DTSTAMP:20260424T203012
CREATED:20250831T015337Z
LAST-MODIFIED:20250831T015612Z
UID:10001058-1756684800-1756771199@motobros.com
SUMMARY:MotoBros Training Compound: Labor Day Ride Day
DESCRIPTION:Click here for more info and to signup 
URL:https://motobros.com/event/motobros-training-compound-labor-day-ride-day/
LOCATION:MotoBros – Training Compound\, 19101 Cattlemans Cove\, Alva\, 33920\, United States
CATEGORIES:MotoBros Event,Motocross Training
ATTACH;FMTTYPE=image/png:https://motobros.com/wp-content/uploads/2025/08/RIDE-DAY.png
END:VEVENT
BEGIN:VEVENT
DTSTART;VALUE=DATE:20250906
DTEND;VALUE=DATE:20250908
DTSTAMP:20260424T203012
CREATED:20250829T103020Z
LAST-MODIFIED:20250906T144327Z
UID:10001053-1757116800-1757289599@motobros.com
SUMMARY:I4MX: Shambala Grand Prix - MotoBros Punta Gorda
DESCRIPTION:Come race I4MX’s Shambala Grand Prix event.  This will combine the main track\, pit bike track\, and an additional turn track for a fun weekend of racing. \nRace Order – Click Here
URL:https://motobros.com/event/i4mx-shambala-grand-prix-motobros-punta-gorda/
LOCATION:MotoBros – Punta Gorda Mx\, 8655 Piper Rd\, Punta Gorda\, FL\, 33982\, United States
CATEGORIES:MotoBros Event,Motocross Race
ATTACH;FMTTYPE=image/png:https://motobros.com/wp-content/uploads/2022/06/cropped-i4mxlogo-2-300x300-1.png
ORGANIZER;CN="I4MX":MAILTO:KennyYoho@i4mx.com
END:VEVENT
BEGIN:VEVENT
DTSTART;VALUE=DATE:20250920
DTEND;VALUE=DATE:20250922
DTSTAMP:20260424T203012
CREATED:20250829T204515Z
LAST-MODIFIED:20250829T212957Z
UID:10001057-1758326400-1758499199@motobros.com
SUMMARY:MotoBros Training Compound: Mini Bike Camp
DESCRIPTION:Come join us at the Training Compound (Alva\, FL) for a weekend of riding\, training\, camping\, and fun! \nDry camping is welcome starting Friday unless you are training earlier in the week which then you can stay into the weekend. \nItems to bring: Gym clothes\, Bathing suit\, Fishing rod & tackle \nTrainers: Matt Bisceglia\, Jason Marra\, Blake Marra \nAddress: 19101 Cattlemans Cove\, Fort Myers\, FL 33920 \nSign Up Here
URL:https://motobros.com/event/motobros-training-compound-mini-bike-camp/
LOCATION:MotoBros – Training Compound\, 19101 Cattlemans Cove\, Alva\, 33920\, United States
CATEGORIES:MotoBros Event,Motocross Training
ATTACH;FMTTYPE=image/jpeg:https://motobros.com/wp-content/uploads/2025/08/mini-bike-camp.jpg
END:VEVENT
END:VCALENDAR