BEGIN:VCALENDAR
VERSION:2.0
PRODID:-//MotoBros - ECPv6.15.16//NONSGML v1.0//EN
CALSCALE:GREGORIAN
METHOD:PUBLISH
X-ORIGINAL-URL:https://motobros.com
X-WR-CALDESC:Events for MotoBros
REFRESH-INTERVAL;VALUE=DURATION:PT1H
X-Robots-Tag:noindex
X-PUBLISHED-TTL:PT1H
BEGIN:VTIMEZONE
TZID:America/New_York
BEGIN:DAYLIGHT
TZOFFSETFROM:-0500
TZOFFSETTO:-0400
TZNAME:EDT
DTSTART:20250309T070000
END:DAYLIGHT
BEGIN:STANDARD
TZOFFSETFROM:-0400
TZOFFSETTO:-0500
TZNAME:EST
DTSTART:20251102T060000
END:STANDARD
BEGIN:DAYLIGHT
TZOFFSETFROM:-0500
TZOFFSETTO:-0400
TZNAME:EDT
DTSTART:20260308T070000
END:DAYLIGHT
BEGIN:STANDARD
TZOFFSETFROM:-0400
TZOFFSETTO:-0500
TZNAME:EST
DTSTART:20261101T060000
END:STANDARD
BEGIN:DAYLIGHT
TZOFFSETFROM:-0500
TZOFFSETTO:-0400
TZNAME:EDT
DTSTART:20270314T070000
END:DAYLIGHT
BEGIN:STANDARD
TZOFFSETFROM:-0400
TZOFFSETTO:-0500
TZNAME:EST
DTSTART:20271107T060000
END:STANDARD
END:VTIMEZONE
BEGIN:VEVENT
DTSTART;TZID=America/New_York:20260202T080000
DTEND;TZID=America/New_York:20260202T170000
DTSTAMP:20260422T204308
CREATED:20260129T214137Z
LAST-MODIFIED:20260129T214137Z
UID:10001593-1770019200-1770051600@motobros.com
SUMMARY:MotoBros Training Compound: Monday
DESCRIPTION:Riders will go over how race weekend went (if raced or not) . Figure out what we need to apply and focus on this week! Warm up laps\, sprints\, section work and moto!
URL:https://motobros.com/event/motobros-training-compound-monday-3/
LOCATION:MotoBros – Training Compound\, 19101 Cattlemans Cove\, Alva\, 33920\, United States
CATEGORIES:Motocross Training
ATTACH;FMTTYPE=image/jpeg:https://motobros.com/wp-content/uploads/2025/01/Training_Compound.jpg
END:VEVENT
END:VCALENDAR