BEGIN:VCALENDAR
VERSION:2.0
PRODID:-//MotoBros - ECPv6.15.16//NONSGML v1.0//EN
CALSCALE:GREGORIAN
METHOD:PUBLISH
X-ORIGINAL-URL:https://motobros.com
X-WR-CALDESC:Events for MotoBros
REFRESH-INTERVAL;VALUE=DURATION:PT1H
X-Robots-Tag:noindex
X-PUBLISHED-TTL:PT1H
BEGIN:VTIMEZONE
TZID:America/New_York
BEGIN:DAYLIGHT
TZOFFSETFROM:-0500
TZOFFSETTO:-0400
TZNAME:EDT
DTSTART:20250309T070000
END:DAYLIGHT
BEGIN:STANDARD
TZOFFSETFROM:-0400
TZOFFSETTO:-0500
TZNAME:EST
DTSTART:20251102T060000
END:STANDARD
BEGIN:DAYLIGHT
TZOFFSETFROM:-0500
TZOFFSETTO:-0400
TZNAME:EDT
DTSTART:20260308T070000
END:DAYLIGHT
BEGIN:STANDARD
TZOFFSETFROM:-0400
TZOFFSETTO:-0500
TZNAME:EST
DTSTART:20261101T060000
END:STANDARD
BEGIN:DAYLIGHT
TZOFFSETFROM:-0500
TZOFFSETTO:-0400
TZNAME:EDT
DTSTART:20270314T070000
END:DAYLIGHT
BEGIN:STANDARD
TZOFFSETFROM:-0400
TZOFFSETTO:-0500
TZNAME:EST
DTSTART:20271107T060000
END:STANDARD
END:VTIMEZONE
BEGIN:VEVENT
DTSTART;TZID=America/New_York:20260218T080000
DTEND;TZID=America/New_York:20260218T170000
DTSTAMP:20260423T234007
CREATED:20260213T030223Z
LAST-MODIFIED:20260213T030223Z
UID:10001600-1771401600-1771434000@motobros.com
SUMMARY:MotoBros Training Compound: Wednesday
DESCRIPTION:Riders will be on figure 8 track\, starts practice\, and ending day with moto
URL:https://motobros.com/event/motobros-training-compound-wednesday-5/
CATEGORIES:Motocross Training
ATTACH;FMTTYPE=image/jpeg:https://motobros.com/wp-content/uploads/2025/02/Training_Compound_Bentley.jpg
END:VEVENT
END:VCALENDAR