BEGIN:VCALENDAR
VERSION:2.0
PRODID:-//MotoBros - ECPv6.15.16//NONSGML v1.0//EN
CALSCALE:GREGORIAN
METHOD:PUBLISH
X-WR-CALNAME:MotoBros
X-ORIGINAL-URL:https://motobros.com
X-WR-CALDESC:Events for MotoBros
REFRESH-INTERVAL;VALUE=DURATION:PT1H
X-Robots-Tag:noindex
X-PUBLISHED-TTL:PT1H
BEGIN:VTIMEZONE
TZID:America/New_York
BEGIN:DAYLIGHT
TZOFFSETFROM:-0500
TZOFFSETTO:-0400
TZNAME:EDT
DTSTART:20210314T070000
END:DAYLIGHT
BEGIN:STANDARD
TZOFFSETFROM:-0400
TZOFFSETTO:-0500
TZNAME:EST
DTSTART:20211107T060000
END:STANDARD
BEGIN:DAYLIGHT
TZOFFSETFROM:-0500
TZOFFSETTO:-0400
TZNAME:EDT
DTSTART:20220313T070000
END:DAYLIGHT
BEGIN:STANDARD
TZOFFSETFROM:-0400
TZOFFSETTO:-0500
TZNAME:EST
DTSTART:20221106T060000
END:STANDARD
BEGIN:DAYLIGHT
TZOFFSETFROM:-0500
TZOFFSETTO:-0400
TZNAME:EDT
DTSTART:20230312T070000
END:DAYLIGHT
BEGIN:STANDARD
TZOFFSETFROM:-0400
TZOFFSETTO:-0500
TZNAME:EST
DTSTART:20231105T060000
END:STANDARD
END:VTIMEZONE
BEGIN:VEVENT
DTSTART;VALUE=DATE:20221022
DTEND;VALUE=DATE:20221023
DTSTAMP:20260422T184942
CREATED:20221021T121326Z
LAST-MODIFIED:20240722T015446Z
UID:10000012-1666396800-1666483199@motobros.com
SUMMARY:MotoBros: Stacyc\, OneWheel\, Pit Bike Race
DESCRIPTION:Schedule: \n4:00 pm Stacyc Practice\n4:15 pm Stacyc Race\n4:30 pm OneWheel Practice\n4:45 pm OneWheel Race\n5:00 pm Pit Bike Practice\n5:30 pm Pit Bike Race \n \n  \n\n		\n		\n			\n				\n			\n			\n				\n			\n			\n				\n			\n			\n				\n			\n			\n				\n			\n			\n		\n\n  \n 
URL:https://motobros.com/event/motobros-stacyc-onewheel-pit-bike-race-2/
LOCATION:MotoBros – Okeechobee MX\, 7543 48th St NE\, Okeechobee\, FL\, 75438\, United States
CATEGORIES:MotoBros Event,Motocross Race
END:VEVENT
BEGIN:VEVENT
DTSTART;VALUE=DATE:20221022
DTEND;VALUE=DATE:20221024
DTSTAMP:20260422T184942
CREATED:20220906T151722Z
LAST-MODIFIED:20240722T015446Z
UID:10000021-1666396800-1666569599@motobros.com
SUMMARY:Florida Gold Cup Series
DESCRIPTION:Register Online at: https://unlimitedsportsmx.com/events/fl-gold-cup/ \nFull hookups can be obtained at Camp Okeechobee right next to the track by visiting https://motobros.com/product/camping-full-hookup/
URL:https://motobros.com/event/florida-gold-cup-series/
LOCATION:MotoBros – Okeechobee MX\, 7543 48th St NE\, Okeechobee\, FL\, 75438\, United States
CATEGORIES:MotoBros Event,Motocross Race
ATTACH;FMTTYPE=image/png:https://motobros.com/wp-content/uploads/2022/09/goldcup2022-AWARD-01-300x300@2x.png
ORGANIZER;CN="Florida Series":MAILTO:dyess733@aol.com
END:VEVENT
END:VCALENDAR